BEGIN:VCALENDAR
PRODID:-//spiritec//spiritec media library//EN
VERSION:2.0
METHOD:PUBLISH
BEGIN:VEVENT
UID:ical-2026-05-16-2313
DTSTART:20260516T203000Z
DTSTAMP:20260423T175526Z
LOCATION:Foyer
SUMMARY:Simsalabim – das magische leben des dr. schreiber
DESCRIPTION:
CREATED:20260423T175526Z
DTEND:20260516T215900Z
END:VEVENT
END:VCALENDAR
