BEGIN:VCALENDAR
PRODID:-//spiritec//spiritec media library//EN
VERSION:2.0
METHOD:PUBLISH
BEGIN:VEVENT
UID:ical-2027-07-11-2299
DTSTART:20270711T100000Z
DTSTAMP:20260426T021504Z
LOCATION:Staatsoperette Foyer
SUMMARY:Theaterführung
DESCRIPTION:
CREATED:20260426T021504Z
DTEND:20270711T110000Z
END:VEVENT
END:VCALENDAR
