BEGIN:VCALENDAR
PRODID:-//spiritec//spiritec media library//EN
VERSION:2.0
METHOD:PUBLISH
BEGIN:VEVENT
UID:ical-2027-07-04-2298
DTSTART:20270704T130000Z
DTSTAMP:20260426T034425Z
LOCATION:Staatsoperette Foyer
SUMMARY:Theaterführung
DESCRIPTION:
CREATED:20260426T034425Z
DTEND:20270704T140000Z
END:VEVENT
END:VCALENDAR
