BEGIN:VCALENDAR
PRODID:-//spiritec//spiritec media library//EN
VERSION:2.0
METHOD:PUBLISH
BEGIN:VEVENT
UID:ical-2027-06-06-2297
DTSTART:20270606T100000Z
DTSTAMP:20260426T034425Z
LOCATION:Staatsoperette Foyer
SUMMARY:Theaterführung
DESCRIPTION:
CREATED:20260426T034425Z
DTEND:20270606T110000Z
END:VEVENT
END:VCALENDAR
