BEGIN:VCALENDAR
PRODID:-//spiritec//spiritec media library//EN
VERSION:2.0
METHOD:PUBLISH
BEGIN:VEVENT
UID:ical-2027-05-23-2296
DTSTART:20270523T100000Z
DTSTAMP:20260426T034602Z
LOCATION:Staatsoperette Foyer
SUMMARY:Theaterführung
DESCRIPTION:
CREATED:20260426T034602Z
DTEND:20270523T110000Z
END:VEVENT
END:VCALENDAR
