BEGIN:VCALENDAR
PRODID:-//spiritec//spiritec media library//EN
VERSION:2.0
METHOD:PUBLISH
BEGIN:VEVENT
UID:ical-2027-05-02-2295
DTSTART:20270502T100000Z
DTSTAMP:20260426T034608Z
LOCATION:Staatsoperette Foyer
SUMMARY:Theaterführung
DESCRIPTION:
CREATED:20260426T034608Z
DTEND:20270502T110000Z
END:VEVENT
END:VCALENDAR
