BEGIN:VCALENDAR
PRODID:-//spiritec//spiritec media library//EN
VERSION:2.0
METHOD:PUBLISH
BEGIN:VEVENT
UID:ical-2027-04-18-2294
DTSTART:20270418T100000Z
DTSTAMP:20260426T034714Z
LOCATION:Staatsoperette Foyer
SUMMARY:Theaterführung
DESCRIPTION:
CREATED:20260426T034714Z
DTEND:20270418T110000Z
END:VEVENT
END:VCALENDAR
