BEGIN:VCALENDAR
PRODID:-//spiritec//spiritec media library//EN
VERSION:2.0
METHOD:PUBLISH
BEGIN:VEVENT
UID:ical-2027-03-07-2291
DTSTART:20270307T110000Z
DTSTAMP:20260426T034425Z
LOCATION:Staatsoperette Foyer
SUMMARY:Theaterführung
DESCRIPTION:
CREATED:20260426T034425Z
DTEND:20270307T120000Z
END:VEVENT
END:VCALENDAR
