BEGIN:VCALENDAR
PRODID:-//spiritec//spiritec media library//EN
VERSION:2.0
METHOD:PUBLISH
BEGIN:VEVENT
UID:ical-2027-02-28-2290
DTSTART:20270228T110000Z
DTSTAMP:20260426T034608Z
LOCATION:Staatsoperette Foyer
SUMMARY:Theaterführung
DESCRIPTION:
CREATED:20260426T034608Z
DTEND:20270228T120000Z
END:VEVENT
END:VCALENDAR
