BEGIN:VCALENDAR
PRODID:-//spiritec//spiritec media library//EN
VERSION:2.0
METHOD:PUBLISH
BEGIN:VEVENT
UID:ical-2027-02-07-2289
DTSTART:20270207T110000Z
DTSTAMP:20260426T034501Z
LOCATION:Staatsoperette Foyer
SUMMARY:Theaterführung
DESCRIPTION:
CREATED:20260426T034501Z
DTEND:20270207T120000Z
END:VEVENT
END:VCALENDAR
