BEGIN:VCALENDAR
PRODID:-//spiritec//spiritec media library//EN
VERSION:2.0
METHOD:PUBLISH
BEGIN:VEVENT
UID:ical-2027-01-17-2288
DTSTART:20270117T110000Z
DTSTAMP:20260426T034607Z
LOCATION:Staatsoperette Foyer
SUMMARY:Theaterführung
DESCRIPTION:
CREATED:20260426T034607Z
DTEND:20270117T120000Z
END:VEVENT
END:VCALENDAR
