BEGIN:VCALENDAR
PRODID:-//spiritec//spiritec media library//EN
VERSION:2.0
METHOD:PUBLISH
BEGIN:VEVENT
UID:ical-2027-01-03-2287
DTSTART:20270103T110000Z
DTSTAMP:20260426T034500Z
LOCATION:Staatsoperette Foyer
SUMMARY:Theaterführung
DESCRIPTION:
CREATED:20260426T034500Z
DTEND:20270103T120000Z
END:VEVENT
END:VCALENDAR
