BEGIN:VCALENDAR
PRODID:-//spiritec//spiritec media library//EN
VERSION:2.0
METHOD:PUBLISH
BEGIN:VEVENT
UID:ical-2026-12-06-2285
DTSTART:20261206T110000Z
DTSTAMP:20260426T034500Z
LOCATION:Staatsoperette Foyer
SUMMARY:Theaterführung
DESCRIPTION:
CREATED:20260426T034500Z
DTEND:20261206T120000Z
END:VEVENT
END:VCALENDAR
