BEGIN:VCALENDAR
PRODID:-//spiritec//spiritec media library//EN
VERSION:2.0
METHOD:PUBLISH
BEGIN:VEVENT
UID:ical-2026-11-22-2284
DTSTART:20261122T110000Z
DTSTAMP:20260426T034602Z
LOCATION:Staatsoperette Foyer
SUMMARY:Theaterführung
DESCRIPTION:
CREATED:20260426T034602Z
DTEND:20261122T120000Z
END:VEVENT
END:VCALENDAR
