BEGIN:VCALENDAR
PRODID:-//spiritec//spiritec media library//EN
VERSION:2.0
METHOD:PUBLISH
BEGIN:VEVENT
UID:ical-2026-11-08-2283
DTSTART:20261108T110000Z
DTSTAMP:20260426T034500Z
LOCATION:Staatsoperette Foyer
SUMMARY:Theaterführung
DESCRIPTION:
CREATED:20260426T034500Z
DTEND:20261108T120000Z
END:VEVENT
END:VCALENDAR
