BEGIN:VCALENDAR
PRODID:-//spiritec//spiritec media library//EN
VERSION:2.0
METHOD:PUBLISH
BEGIN:VEVENT
UID:ical-2026-10-04-2281
DTSTART:20261004T100000Z
DTSTAMP:20260426T034714Z
LOCATION:Staatsoperette Foyer
SUMMARY:Theaterführung
DESCRIPTION:
CREATED:20260426T034714Z
DTEND:20261004T110000Z
END:VEVENT
END:VCALENDAR
