BEGIN:VCALENDAR
PRODID:-//spiritec//spiritec media library//EN
VERSION:2.0
METHOD:PUBLISH
BEGIN:VEVENT
UID:ical-2027-02-24-2234
DTSTART:20270224T183000Z
DTSTAMP:20260423T161420Z
LOCATION:Staatsoperette Saal
SUMMARY:Die lustige Witwe
DESCRIPTION:
CREATED:20260423T161420Z
DTEND:20270224T204500Z
END:VEVENT
END:VCALENDAR
