BEGIN:VCALENDAR
PRODID:-//spiritec//spiritec media library//EN
VERSION:2.0
METHOD:PUBLISH
BEGIN:VEVENT
UID:ical-2027-02-23-2233
DTSTART:20270223T183000Z
DTSTAMP:20260423T161421Z
LOCATION:Staatsoperette Saal
SUMMARY:Die lustige Witwe
DESCRIPTION:
CREATED:20260423T161421Z
DTEND:20270223T204500Z
END:VEVENT
END:VCALENDAR
