BEGIN:VCALENDAR
PRODID:-//spiritec//spiritec media library//EN
VERSION:2.0
METHOD:PUBLISH
BEGIN:VEVENT
UID:ical-2026-12-31-2229
DTSTART:20261231T133000Z
DTSTAMP:20260423T161420Z
LOCATION:Staatsoperette Saal
SUMMARY:Die lustige Witwe
DESCRIPTION:
CREATED:20260423T161420Z
DTEND:20261231T154500Z
END:VEVENT
END:VCALENDAR
