BEGIN:VCALENDAR
PRODID:-//spiritec//spiritec media library//EN
VERSION:2.0
METHOD:PUBLISH
BEGIN:VEVENT
UID:ical-2026-11-14-2226
DTSTART:20261114T183000Z
DTSTAMP:20260423T161405Z
LOCATION:Staatsoperette Saal
SUMMARY:Die lustige Witwe
DESCRIPTION:
CREATED:20260423T161405Z
DTEND:20261114T204500Z
END:VEVENT
END:VCALENDAR
