BEGIN:VCALENDAR
PRODID:-//spiritec//spiritec media library//EN
VERSION:2.0
METHOD:PUBLISH
BEGIN:VEVENT
UID:ical-2026-10-23-2225
DTSTART:20261023T173000Z
DTSTAMP:20260423T161420Z
LOCATION:Staatsoperette Saal
SUMMARY:Die lustige Witwe
DESCRIPTION:
CREATED:20260423T161420Z
DTEND:20261023T194500Z
END:VEVENT
END:VCALENDAR
