BEGIN:VCALENDAR
PRODID:-//spiritec//spiritec media library//EN
VERSION:2.0
METHOD:PUBLISH
BEGIN:VEVENT
UID:ical-2026-09-27-2221
DTSTART:20260927T130000Z
DTSTAMP:20260423T161313Z
LOCATION:Staatsoperette Saal
SUMMARY:Die lustige Witwe
DESCRIPTION:
CREATED:20260423T161313Z
DTEND:20260927T151500Z
END:VEVENT
END:VCALENDAR
