BEGIN:VCALENDAR
PRODID:-//spiritec//spiritec media library//EN
VERSION:2.0
METHOD:PUBLISH
BEGIN:VEVENT
UID:ical-2027-04-25-2214
DTSTART:20270425T130000Z
DTSTAMP:20260423T161404Z
LOCATION:Staatsoperette Saal
SUMMARY:Simsalabim – das magische leben des dr. schreiber
DESCRIPTION:
CREATED:20260423T161404Z
DTEND:20270425T215900Z
END:VEVENT
END:VCALENDAR
