BEGIN:VCALENDAR
PRODID:-//spiritec//spiritec media library//EN
VERSION:2.0
METHOD:PUBLISH
BEGIN:VEVENT
UID:ical-2027-04-24-2213
DTSTART:20270424T173000Z
DTSTAMP:20260423T161312Z
LOCATION:Staatsoperette Saal
SUMMARY:Simsalabim – das magische leben des dr. schreiber
DESCRIPTION:
CREATED:20260423T161312Z
DTEND:20270424T215900Z
END:VEVENT
END:VCALENDAR
