BEGIN:VCALENDAR
PRODID:-//spiritec//spiritec media library//EN
VERSION:2.0
METHOD:PUBLISH
BEGIN:VEVENT
UID:ical-2027-03-07-2211
DTSTART:20270307T140000Z
DTSTAMP:20260423T161420Z
LOCATION:Staatsoperette Saal
SUMMARY:Simsalabim – das magische leben des dr. schreiber
DESCRIPTION:
CREATED:20260423T161420Z
DTEND:20270307T225900Z
END:VEVENT
END:VCALENDAR
