BEGIN:VCALENDAR
PRODID:-//spiritec//spiritec media library//EN
VERSION:2.0
METHOD:PUBLISH
BEGIN:VEVENT
UID:ical-2026-05-16-2209
DTSTART:20260516T173000Z
DTSTAMP:20260423T161421Z
LOCATION:Staatsoperette Saal
SUMMARY:Simsalabim – das magische leben des dr. schreiber
DESCRIPTION:
CREATED:20260423T161421Z
DTEND:20260516T215900Z
END:VEVENT
END:VCALENDAR
