BEGIN:VCALENDAR
PRODID:-//spiritec//spiritec media library//EN
VERSION:2.0
METHOD:PUBLISH
BEGIN:VEVENT
UID:ical-2026-08-28-2203
DTSTART:20260828T160000Z
DTSTAMP:20260424T174256Z
LOCATION:Staatsoperette Saal
SUMMARY:Showtime!
DESCRIPTION:
CREATED:20260424T174256Z
DTEND:20260828T215900Z
END:VEVENT
END:VCALENDAR
