BEGIN:VCALENDAR
PRODID:-//spiritec//spiritec media library//EN
VERSION:2.0
METHOD:PUBLISH
BEGIN:VEVENT
UID:ical-2027-07-10-2201
DTSTART:20270710T173000Z
DTSTAMP:20260423T161313Z
LOCATION:Staatsoperette Saal
SUMMARY:Ball im Savoy
DESCRIPTION:
CREATED:20260423T161313Z
DTEND:20270710T201500Z
END:VEVENT
END:VCALENDAR
