BEGIN:VCALENDAR
PRODID:-//spiritec//spiritec media library//EN
VERSION:2.0
METHOD:PUBLISH
BEGIN:VEVENT
UID:ical-2027-06-25-2200
DTSTART:20270625T173000Z
DTSTAMP:20260423T161420Z
LOCATION:Staatsoperette Saal
SUMMARY:Ball im Savoy
DESCRIPTION:
CREATED:20260423T161420Z
DTEND:20270625T201500Z
END:VEVENT
END:VCALENDAR
