BEGIN:VCALENDAR
PRODID:-//spiritec//spiritec media library//EN
VERSION:2.0
METHOD:PUBLISH
BEGIN:VEVENT
UID:ical-2027-06-24-2199
DTSTART:20270624T173000Z
DTSTAMP:20260423T161313Z
LOCATION:Staatsoperette Saal
SUMMARY:Ball im Savoy
DESCRIPTION:
CREATED:20260423T161313Z
DTEND:20270624T201500Z
END:VEVENT
END:VCALENDAR
