BEGIN:VCALENDAR
PRODID:-//spiritec//spiritec media library//EN
VERSION:2.0
METHOD:PUBLISH
BEGIN:VEVENT
UID:ical-2027-06-19-2187
DTSTART:20270619T173000Z
DTSTAMP:20260424T174041Z
LOCATION:Staatsoperette Saal
SUMMARY:Pariser Leben
DESCRIPTION:
CREATED:20260424T174041Z
DTEND:20270619T215900Z
END:VEVENT
END:VCALENDAR
