BEGIN:VCALENDAR
PRODID:-//spiritec//spiritec media library//EN
VERSION:2.0
METHOD:PUBLISH
BEGIN:VEVENT
UID:ical-2027-05-23-2184
DTSTART:20270523T130000Z
DTSTAMP:20260424T174256Z
LOCATION:Staatsoperette Saal
SUMMARY:Pariser Leben
DESCRIPTION:
CREATED:20260424T174256Z
DTEND:20270523T215900Z
END:VEVENT
END:VCALENDAR
