BEGIN:VCALENDAR
PRODID:-//spiritec//spiritec media library//EN
VERSION:2.0
METHOD:PUBLISH
BEGIN:VEVENT
UID:ical-2027-04-08-2177
DTSTART:20270408T173000Z
DTSTAMP:20260423T161312Z
LOCATION:Staatsoperette Saal
SUMMARY:Kinostar!
DESCRIPTION:
CREATED:20260423T161312Z
DTEND:20270408T190000Z
END:VEVENT
END:VCALENDAR
