BEGIN:VCALENDAR
PRODID:-//spiritec//spiritec media library//EN
VERSION:2.0
METHOD:PUBLISH
BEGIN:VEVENT
UID:ical-2026-12-03-2170
DTSTART:20261203T183000Z
DTSTAMP:20260423T161312Z
LOCATION:Staatsoperette Saal
SUMMARY:Kinostar!
DESCRIPTION:
CREATED:20260423T161312Z
DTEND:20261203T200000Z
END:VEVENT
END:VCALENDAR
