BEGIN:VCALENDAR
PRODID:-//spiritec//spiritec media library//EN
VERSION:2.0
METHOD:PUBLISH
BEGIN:VEVENT
UID:ical-2026-12-10-2160
DTSTART:20261210T170000Z
DTSTAMP:20260424T174152Z
LOCATION:Staatsoperette Saal
SUMMARY:Hänsel und Gretel
DESCRIPTION:
CREATED:20260424T174152Z
DTEND:20261210T225900Z
END:VEVENT
END:VCALENDAR
