BEGIN:VCALENDAR
PRODID:-//spiritec//spiritec media library//EN
VERSION:2.0
METHOD:PUBLISH
BEGIN:VEVENT
UID:ical-2026-12-06-2159
DTSTART:20261206T140000Z
DTSTAMP:20260424T174146Z
LOCATION:Staatsoperette Saal
SUMMARY:Hänsel und Gretel
DESCRIPTION:
CREATED:20260424T174146Z
DTEND:20261206T225900Z
END:VEVENT
END:VCALENDAR
