BEGIN:VCALENDAR
PRODID:-//spiritec//spiritec media library//EN
VERSION:2.0
METHOD:PUBLISH
BEGIN:VEVENT
UID:ical-2026-11-01-2148
DTSTART:20261101T140000Z
DTSTAMP:20260423T213227Z
LOCATION:Staatsoperette Saal
SUMMARY:ich, eurydike
DESCRIPTION:
CREATED:20260423T213227Z
DTEND:20261101T151500Z
END:VEVENT
END:VCALENDAR
