BEGIN:VCALENDAR
PRODID:-//spiritec//spiritec media library//EN
VERSION:2.0
METHOD:PUBLISH
BEGIN:VEVENT
UID:ical-2026-10-17-2145
DTSTART:20261017T173000Z
DTSTAMP:20260423T213227Z
LOCATION:Staatsoperette Saal
SUMMARY:ich, eurydike
DESCRIPTION:
CREATED:20260423T213227Z
DTEND:20261017T184500Z
END:VEVENT
END:VCALENDAR
