BEGIN:VCALENDAR
PRODID:-//spiritec//spiritec media library//EN
VERSION:2.0
METHOD:PUBLISH
BEGIN:VEVENT
UID:ical-2026-10-01-2143
DTSTART:20261001T173000Z
DTSTAMP:20260423T213233Z
LOCATION:Staatsoperette Saal
SUMMARY:ich, eurydike
DESCRIPTION:
CREATED:20260423T213233Z
DTEND:20261001T184500Z
END:VEVENT
END:VCALENDAR
