BEGIN:VCALENDAR
PRODID:-//spiritec//spiritec media library//EN
VERSION:2.0
METHOD:PUBLISH
BEGIN:VEVENT
UID:ical-2027-07-07-2137
DTSTART:20270707T160000Z
DTSTAMP:20260424T143740Z
LOCATION:Staatsoperette Saal
SUMMARY:Emil und die Detektive
DESCRIPTION:
CREATED:20260424T143740Z
DTEND:20270707T215900Z
END:VEVENT
END:VCALENDAR
