BEGIN:VCALENDAR
PRODID:-//spiritec//spiritec media library//EN
VERSION:2.0
METHOD:PUBLISH
BEGIN:VEVENT
UID:ical-2027-06-27-2130
DTSTART:20270627T130000Z
DTSTAMP:20260423T161405Z
LOCATION:Staatsoperette Saal
SUMMARY:Cabaret
DESCRIPTION:
CREATED:20260423T161405Z
DTEND:20270627T154500Z
END:VEVENT
END:VCALENDAR
