BEGIN:VCALENDAR
PRODID:-//spiritec//spiritec media library//EN
VERSION:2.0
METHOD:PUBLISH
BEGIN:VEVENT
UID:ical-2027-06-08-2127
DTSTART:20270608T090000Z
DTSTAMP:20260423T161312Z
LOCATION:Staatsoperette Saal
SUMMARY:Cabaret
DESCRIPTION:
CREATED:20260423T161312Z
DTEND:20270608T114500Z
END:VEVENT
END:VCALENDAR
