BEGIN:VCALENDAR
PRODID:-//spiritec//spiritec media library//EN
VERSION:2.0
METHOD:PUBLISH
BEGIN:VEVENT
UID:ical-2027-05-02-2126
DTSTART:20270502T130000Z
DTSTAMP:20260423T161311Z
LOCATION:Staatsoperette Saal
SUMMARY:Cabaret
DESCRIPTION:
CREATED:20260423T161311Z
DTEND:20270502T154500Z
END:VEVENT
END:VCALENDAR
