BEGIN:VCALENDAR
PRODID:-//spiritec//spiritec media library//EN
VERSION:2.0
METHOD:PUBLISH
BEGIN:VEVENT
UID:ical-2027-05-01-2125
DTSTART:20270501T173000Z
DTSTAMP:20260423T161312Z
LOCATION:Staatsoperette Saal
SUMMARY:Cabaret
DESCRIPTION:
CREATED:20260423T161312Z
DTEND:20270501T201500Z
END:VEVENT
END:VCALENDAR
