BEGIN:VCALENDAR
PRODID:-//spiritec//spiritec media library//EN
VERSION:2.0
METHOD:PUBLISH
BEGIN:VEVENT
UID:ical-2027-04-18-2124
DTSTART:20270418T130000Z
DTSTAMP:20260423T161313Z
LOCATION:Staatsoperette Saal
SUMMARY:Cabaret
DESCRIPTION:
CREATED:20260423T161313Z
DTEND:20270418T154500Z
END:VEVENT
END:VCALENDAR
