BEGIN:VCALENDAR
PRODID:-//spiritec//spiritec media library//EN
VERSION:2.0
METHOD:PUBLISH
BEGIN:VEVENT
UID:ical-2027-04-17-2123
DTSTART:20270417T173000Z
DTSTAMP:20260423T161420Z
LOCATION:Staatsoperette Saal
SUMMARY:Cabaret
DESCRIPTION:
CREATED:20260423T161420Z
DTEND:20270417T201500Z
END:VEVENT
END:VCALENDAR
