BEGIN:VCALENDAR
PRODID:-//spiritec//spiritec media library//EN
VERSION:2.0
METHOD:PUBLISH
BEGIN:VEVENT
UID:ical-2027-06-13-2120
DTSTART:20270613T130000Z
DTSTAMP:20260423T193500Z
LOCATION:Staatsoperette Saal
SUMMARY:Anything Goes
DESCRIPTION:
CREATED:20260423T193500Z
DTEND:20270613T215900Z
END:VEVENT
END:VCALENDAR
