BEGIN:VCALENDAR
PRODID:-//spiritec//spiritec media library//EN
VERSION:2.0
METHOD:PUBLISH
BEGIN:VEVENT
UID:ical-2027-06-12-2119
DTSTART:20270612T173000Z
DTSTAMP:20260423T193643Z
LOCATION:Staatsoperette Saal
SUMMARY:Anything Goes
DESCRIPTION:
CREATED:20260423T193643Z
DTEND:20270612T215900Z
END:VEVENT
END:VCALENDAR
