BEGIN:VCALENDAR
PRODID:-//spiritec//spiritec media library//EN
VERSION:2.0
METHOD:PUBLISH
BEGIN:VEVENT
UID:ical-2027-05-08-2117
DTSTART:20270508T173000Z
DTSTAMP:20260423T193413Z
LOCATION:Staatsoperette Saal
SUMMARY:Anything Goes
DESCRIPTION:
CREATED:20260423T193413Z
DTEND:20270508T215900Z
END:VEVENT
END:VCALENDAR
