BEGIN:VCALENDAR
PRODID:-//spiritec//spiritec media library//EN
VERSION:2.0
METHOD:PUBLISH
BEGIN:VEVENT
UID:ical-2027-03-14-2114
DTSTART:20270314T140000Z
DTSTAMP:20260423T193500Z
LOCATION:Staatsoperette Saal
SUMMARY:Anything Goes
DESCRIPTION:
CREATED:20260423T193500Z
DTEND:20270314T225900Z
END:VEVENT
END:VCALENDAR
